BEGIN:VCALENDAR
VERSION:2.0
PRODID:icalendar-ruby
CALSCALE:GREGORIAN
METHOD:PUBLISH
BEGIN:VEVENT
DTSTAMP:20260419T164429Z
UID:126-456088@mtcarmelbaptist-eastend.org
DTSTART:20260823T150000Z
DTEND:20260823T171500Z
CLASS:PUBLIC
CREATED:20260419T111454
DESCRIPTION:
LAST-MODIFIED:20260419T111454
LOCATION:Mt. Carmel Baptist Church
SUMMARY:Sunday Worship Service
URL;VALUE=URI:https://mtcarmelbaptist-eastend.org/events/sunday-worship-ser
 vice/2026-08-23
ATTACH;FILENAME=praise.jpg;FMTTYPE=image/jpeg:https://dq5pwpg1q8ru0.cloudfr
 ont.net/2025/01/27/20/26/44/371803cd-a3fb-44f9-b98a-87e612b8cda9/praise.jp
 g
END:VEVENT
END:VCALENDAR
