BEGIN:VCALENDAR
VERSION:2.0
PRODID:icalendar-ruby
CALSCALE:GREGORIAN
METHOD:PUBLISH
BEGIN:VEVENT
DTSTAMP:20260420T052923Z
UID:137-457081@mtcarmelbaptist-eastend.org
DTSTART:20261007T230000Z
DTEND:20261008T003000Z
CLASS:PUBLIC
CREATED:20260419T221928
DESCRIPTION:
LAST-MODIFIED:20260419T221928
LOCATION:Mt. Carmel Baptist Church
SUMMARY:Prayer & Bible Study 
URL;VALUE=URI:https://mtcarmelbaptist-eastend.org/events/prayer-bible-study
 /2026-10-07
ATTACH;FILENAME=STUDYBIBLE.jpg;FMTTYPE=image/jpeg:https://dq5pwpg1q8ru0.clo
 udfront.net/2026/01/29/22/19/22/7ac0e265-6c6c-4ac6-a8b7-cc2dd9e8046e/STUDY
 BIBLE.jpg
END:VEVENT
END:VCALENDAR
